BEGIN:VCALENDAR
VERSION:2.0
PRODID:-// - ECPv6.8.2.1//NONSGML v1.0//EN
CALSCALE:GREGORIAN
METHOD:PUBLISH
X-ORIGINAL-URL:https://martialartsqueensland.com
X-WR-CALDESC:Events for 
REFRESH-INTERVAL;VALUE=DURATION:PT1H
X-Robots-Tag:noindex
X-PUBLISHED-TTL:PT1H
BEGIN:VTIMEZONE
TZID:Australia/Brisbane
BEGIN:STANDARD
TZOFFSETFROM:+1000
TZOFFSETTO:+1000
TZNAME:AEST
DTSTART:20260101T000000
END:STANDARD
END:VTIMEZONE
BEGIN:VEVENT
DTSTART;VALUE=DATE:20260425
DTEND;VALUE=DATE:20260426
DTSTAMP:20260425T023647
CREATED:20241203T061506Z
LAST-MODIFIED:20260108T015834Z
UID:7138-1777075200-1777161599@martialartsqueensland.com
SUMMARY:Closed For Anzac Day Public Holiday
DESCRIPTION:All of our locations are closed for the ANZAC Day Public Holiday
URL:https://martialartsqueensland.com/event/closed-for-anzac-day-public-holiday/
LOCATION:QLD
CATEGORIES:Closed For Public Holiday
ATTACH;FMTTYPE=image/jpeg:https://martialartsqueensland.com/wp-content/uploads/2021/12/0_Iz0KBg69kj9XER6l.jpg
END:VEVENT
END:VCALENDAR